Workbook

Sheet Bestellungen
A1: Bestell-Nr. | B1: Datum | C1: Kunden-Nr. | D1: Betrag | E1: Firma | F1: Ort
A2: B-2401 | B2: 46267 | C2: K-1004 | D2: 1250 | E2: =_xlfn.XLOOKUP(C2,Kunden!A:A,Kunden!B:B,"nicht gefunden") -> Gartenbau Müller | F2: =_xlfn.XLOOKUP(C2,Kunden!A:A,Kunden!C:C,"nicht gefunden") -> Hannover
A3: B-2402 | B3: 46268 | C3: K-1001 | D3: 480 | E3: =_xlfn.XLOOKUP(C3,Kunden!A:A,Kunden!B:B,"nicht gefunden") -> Bäckerei Sonnenschein GmbH | F3: =_xlfn.XLOOKUP(C3,Kunden!A:A,Kunden!C:C,"nicht gefunden") -> Hamburg
A4: B-2403 | B4: 46270 | C4: K-1007 | D4: 2310.5 | E4: =_xlfn.XLOOKUP(C4,Kunden!A:A,Kunden!B:B,"nicht gefunden") -> Weingut Haas | F4: =_xlfn.XLOOKUP(C4,Kunden!A:A,Kunden!C:C,"nicht gefunden") -> Mainz
A5: B-2404 | B5: 46273 | C5: K-1002 | D5: 95.9 | E5: =_xlfn.XLOOKUP(C5,Kunden!A:A,Kunden!B:B,"nicht gefunden") -> Autohaus Brandt KG | F5: =_xlfn.XLOOKUP(C5,Kunden!A:A,Kunden!C:C,"nicht gefunden") -> Bremen
A6: B-2405 | B6: 46274 | C6: K-1004 | D6: 760 | E6: =_xlfn.XLOOKUP(C6,Kunden!A:A,Kunden!B:B,"nicht gefunden") -> Gartenbau Müller | F6: =_xlfn.XLOOKUP(C6,Kunden!A:A,Kunden!C:C,"nicht gefunden") -> Hannover
A7: B-2406 | B7: 46276 | C7: K-1010 | D7: 1045 | E7: =_xlfn.XLOOKUP(C7,Kunden!A:A,Kunden!B:B,"nicht gefunden") -> Hotel Seeblick | F7: =_xlfn.XLOOKUP(C7,Kunden!A:A,Kunden!C:C,"nicht gefunden") -> Konstanz
A8: B-2407 | B8: 46277 | C8: K-1003 | D8: 330 | E8: =_xlfn.XLOOKUP(C8,Kunden!A:A,Kunden!B:B,"nicht gefunden") -> Praxis Dr. Yilmaz | F8: =_xlfn.XLOOKUP(C8,Kunden!A:A,Kunden!C:C,"nicht gefunden") -> Köln
A9: B-2408 | B9: 46280 | C9: K-1099 | D9: 615 | E9: =_xlfn.XLOOKUP(C9,Kunden!A:A,Kunden!B:B,"nicht gefunden") -> nicht gefunden | F9: =_xlfn.XLOOKUP(C9,Kunden!A:A,Kunden!C:C,"nicht gefunden") -> nicht gefunden
A10: B-2409 | B10: 46281 | C10: K-1006 | D10: 1890 | E10: =_xlfn.XLOOKUP(C10,Kunden!A:A,Kunden!B:B,"nicht gefunden") -> Elektro Kaiser GmbH | F10: =_xlfn.XLOOKUP(C10,Kunden!A:A,Kunden!C:C,"nicht gefunden") -> München
A11: B-2410 | B11: 46283 | C11: K-1008 | D11: 245 | E11: =_xlfn.XLOOKUP(C11,Kunden!A:A,Kunden!B:B,"nicht gefunden") -> Steuerbüro Becker & Partner | F11: =_xlfn.XLOOKUP(C11,Kunden!A:A,Kunden!C:C,"nicht gefunden") -> Dortmund
A12: B-2411 | B12: 46287 | C12: K-1001 | D12: 3120 | E12: =_xlfn.XLOOKUP(C12,Kunden!A:A,Kunden!B:B,"nicht gefunden") -> Bäckerei Sonnenschein GmbH | F12: =_xlfn.XLOOKUP(C12,Kunden!A:A,Kunden!C:C,"nicht gefunden") -> Hamburg
A13: B-2412 | B13: 46290 | C13: K-1005 | D13: 570 | E13: =_xlfn.XLOOKUP(C13,Kunden!A:A,Kunden!B:B,"nicht gefunden") -> Café Lindenblatt | F13: =_xlfn.XLOOKUP(C13,Kunden!A:A,Kunden!C:C,"nicht gefunden") -> Leipzig

Sheet Kunden
A1: Kunden-Nr. | B1: Firma | C1: Ort | D1: Ansprechpartner
A2: K-1007 | B2: Weingut Haas | C2: Mainz | D2: Frau Haas
A3: K-1002 | B3: Autohaus Brandt KG | C3: Bremen | D3: Herr Brandt
A4: K-1010 | B4: Hotel Seeblick | C4: Konstanz | D4: Frau Weber
A5: K-1004 | B5: Gartenbau Müller | C5: Hannover | D5: Herr Müller
A6: K-1001 | B6: Bäckerei Sonnenschein GmbH | C6: Hamburg | D6: Frau Petersen
A7: K-1009 | B7: Fahrschule Nowak | C7: Dresden | D7: Herr Nowak
A8: K-1005 | B8: Café Lindenblatt | C8: Leipzig | D8: Frau Schulz
A9: K-1003 | B9: Praxis Dr. Yilmaz | C9: Köln | D9: Frau Dr. Yilmaz
A10: K-1008 | B10: Steuerbüro Becker & Partner | C10: Dortmund | D10: Herr Becker
A11: K-1006 | B11: Elektro Kaiser GmbH | C11: München | D11: Herr Kaiser
